BEGIN:VCALENDAR
VERSION:2.0
PRODID:icalendar-ruby
CALSCALE:GREGORIAN
METHOD:PUBLISH
BEGIN:VEVENT
DTSTAMP:20260421T202430Z
UID:26-331186@rmcaz.com
DTSTART:20261101T173000Z
DTEND:20261101T183000Z
CLASS:PUBLIC
CREATED:20260421T123920
DESCRIPTION:
LAST-MODIFIED:20260421T123920
LOCATION:Sky View elementary School\, 8624 W Sweetwater Ave\, Peoria\, AZ 8
 5381
SUMMARY:Sunday Worship Service
URL;VALUE=URI:https://www.rmcaz.com/events/sunday-worship-service/2026-11-0
 1
END:VEVENT
END:VCALENDAR
