BEGIN:VCALENDAR
VERSION:2.0
PRODID:icalendar-ruby
CALSCALE:GREGORIAN
METHOD:PUBLISH
BEGIN:VEVENT
DTSTAMP:20260421T144424Z
UID:26-331046@rmcaz.com
DTSTART:20261004T173000Z
DTEND:20261004T183000Z
CLASS:PUBLIC
CREATED:20260421T072326
DESCRIPTION:
LAST-MODIFIED:20260421T072326
LOCATION:Sky View elementary School\, 8624 W Sweetwater Ave\, Peoria\, AZ 8
 5381
SUMMARY:Sunday Worship Service
URL;VALUE=URI:https://www.rmcaz.com/events/sunday-worship-service/2026-10-0
 4
END:VEVENT
END:VCALENDAR
