BEGIN:VCALENDAR
VERSION:2.0
PRODID:icalendar-ruby
CALSCALE:GREGORIAN
METHOD:PUBLISH
BEGIN:VEVENT
DTSTAMP:20260421T125622Z
UID:26-330977@rmcaz.com
DTSTART:20260927T173000Z
DTEND:20260927T183000Z
CLASS:PUBLIC
CREATED:20260421T044749
DESCRIPTION:
LAST-MODIFIED:20260421T044749
LOCATION:Sky View elementary School\, 8624 W Sweetwater Ave\, Peoria\, AZ 8
 5381
SUMMARY:Sunday Worship Service
URL;VALUE=URI:https://www.rmcaz.com/events/sunday-worship-service/2026-09-2
 7
END:VEVENT
END:VCALENDAR
