BEGIN:VCALENDAR
VERSION:2.0
PRODID:icalendar-ruby
CALSCALE:GREGORIAN
METHOD:PUBLISH
BEGIN:VEVENT
DTSTAMP:20260421T065940Z
UID:26-330905@rmcaz.com
DTSTART:20260830T173000Z
DTEND:20260830T183000Z
CLASS:PUBLIC
CREATED:20260420T174116
DESCRIPTION:
LAST-MODIFIED:20260420T174116
LOCATION:Sky View elementary School\, 8624 W Sweetwater Ave\, Peoria\, AZ 8
 5381
SUMMARY:Sunday Worship Service
URL;VALUE=URI:https://www.rmcaz.com/events/sunday-worship-service/2026-08-3
 0
END:VEVENT
END:VCALENDAR
